BEGIN:VCALENDAR
VERSION:2.0
PRODID:Rio Grande Valley MPO, TX Calendar Creator
METHOD:PUBLISH
BEGIN:VEVENT
DTSTAMP:20260212T091454
DTSTART:20260520T133000
DTEND:20260520T143000
SUMMARY:Transportation Policy Board Meeting
DESCRIPTION:<p>The Transportation Policy Board (TPB) is the decision-making body of the Rio Grande Valley MPO. Members of the TPB serve as spokespersons for citizens of the county as well as each city in the metro area. The TPB is responsible for creating policies regarding transportation planning issues. The board includes local officials (elected) and county representatives, transit agencies, and transportation agencies.</p><p>The TPB meets on third Wednesday of the month month at 1:30 PM at different locations around RGV area. The meetings are open for public comment, contact Adriana Estrada at&nbsp;<a href="mailto:&#97;&#101;&#115;&#116;&#114;&#97;&#100;&#97;&#64;&#114;&#103;&#118;&#109;&#112;&#111;&#46;&#111;&#114;&#103;">aestrada@rgvmpo.org</a>&nbsp;for more information.</p><p><a href="https://www.rgvmpo.org/committees/transportation-policy-board/packets-agendas-recordings" target="_blank">Click here to be redirected to the TPB agenda and packet.&nbsp;</a></p><p><a href="https://www.rgvmpo.org/committees/transportation-policy-board" target="_blank">Click here to find out who is an active member on the TPB board.</a></p><p>&nbsp;</p>
X-ALT-DESC;FMTTYPE=text/html:<p>The Transportation Policy Board (TPB) is the decision-making body of the Rio Grande Valley MPO. Members of the TPB serve as spokespersons for citizens of the county as well as each city in the metro area. The TPB is responsible for creating policies regarding transportation planning issues. The board includes local officials (elected) and county representatives, transit agencies, and transportation agencies.</p><p>The TPB meets on third Wednesday of the month month at 1:30 PM at different locations around RGV area. The meetings are open for public comment, contact Adriana Estrada at&nbsp;<a href="mailto:&#97;&#101;&#115;&#116;&#114;&#97;&#100;&#97;&#64;&#114;&#103;&#118;&#109;&#112;&#111;&#46;&#111;&#114;&#103;">aestrada@rgvmpo.org</a>&nbsp;for more information.</p><p><a href="https://www.rgvmpo.org/committees/transportation-policy-board/packets-agendas-recordings" target="_blank">Click here to be redirected to the TPB agenda and packet.&nbsp;</a></p><p><a href="https://www.rgvmpo.org/committees/transportation-policy-board" target="_blank">Click here to find out who is an active member on the TPB board.</a></p><p>&nbsp;</p>
LOCATION:
CLASS:PUBLIC
END:VEVENT
END:VCALENDAR
