BEGIN:VCALENDAR
VERSION:2.0
PRODID:Rio Grande Valley MPO, TX Calendar Creator
METHOD:PUBLISH
BEGIN:VEVENT
DTSTAMP:20260311T160117
DTSTART:20260318T133000
DTEND:20260318T143000
SUMMARY:CANCELED-Transportation Policy Board Meeting
DESCRIPTION:<p>Good afternoon, Policy Board members:</p><p>Please be advised that the <b>Transportation Policy Board meeting</b> scheduled for <b>Wednesday, March 18, at 1:30 p.m.</b> has been cancelled.</p><p>As there are currently no pressing action items requiring the Board's attention.</p><p>We look forward to seeing you at our next regularly scheduled meeting.</p><p>&nbsp;</p><p>&nbsp;</p>
X-ALT-DESC;FMTTYPE=text/html:<p>Good afternoon, Policy Board members:</p><p>Please be advised that the <b>Transportation Policy Board meeting</b> scheduled for <b>Wednesday, March 18, at 1:30 p.m.</b> has been cancelled.</p><p>As there are currently no pressing action items requiring the Board's attention.</p><p>We look forward to seeing you at our next regularly scheduled meeting.</p><p>&nbsp;</p><p>&nbsp;</p>
LOCATION:
CLASS:PUBLIC
END:VEVENT
END:VCALENDAR
